BEGIN:VCALENDAR
PRODID:-//github.com/rianjs/ical.net//NONSGML ical.net 4.0//EN
VERSION:2.0
BEGIN:VTIMEZONE
TZID:Eastern Standard Time
X-LIC-LOCATION:America/New_York
BEGIN:STANDARD
DTSTART:20241103T020000
RRULE:FREQ=YEARLY;BYDAY=1SU;BYMONTH=11
TZNAME:EST
TZOFFSETFROM:-0400
TZOFFSETTO:-0500
END:STANDARD
BEGIN:DAYLIGHT
DTSTART:20250309T020000
RRULE:FREQ=YEARLY;BYDAY=2SU;BYMONTH=3
TZNAME:EDT
TZOFFSETFROM:-0500
TZOFFSETTO:-0400
END:DAYLIGHT
END:VTIMEZONE
BEGIN:VEVENT
DESCRIPTION:State certified NPDES Level 1A Recertification (Blue Card)
DTEND;TZID=Eastern Standard Time:20260605T120000
DTSTAMP:20260421T102446Z
DTSTART;TZID=Eastern Standard Time:20260605T080000
LOCATION:GUCA 804 Main Street Suite A Forest Park\, GA 30297-1476 United S
 tates
ORGANIZER;CN=;SENT-BY="mailto:":
SEQUENCE:0
SUMMARY:GUCA: NPDES Level 1A Recertification - Forest Park 06/05/2026
UID:15fd1b05-3097-4276-8d6a-2e3d9382c0bf
END:VEVENT
END:VCALENDAR
