BEGIN:VCALENDAR
PRODID:-//github.com/rianjs/ical.net//NONSGML ical.net 4.0//EN
VERSION:2.0
BEGIN:VTIMEZONE
TZID:Eastern Standard Time
X-LIC-LOCATION:America/New_York
BEGIN:STANDARD
DTSTART:20241103T020000
RRULE:FREQ=YEARLY;BYDAY=1SU;BYMONTH=11
TZNAME:EST
TZOFFSETFROM:-0400
TZOFFSETTO:-0500
END:STANDARD
BEGIN:DAYLIGHT
DTSTART:20250309T020000
RRULE:FREQ=YEARLY;BYDAY=2SU;BYMONTH=3
TZNAME:EDT
TZOFFSETFROM:-0500
TZOFFSETTO:-0400
END:DAYLIGHT
END:VTIMEZONE
BEGIN:VEVENT
DESCRIPTION:Certified by the Georgia Construction Industry Licensing Board
DTEND;TZID=Eastern Standard Time:20260512T170000
DTSTAMP:20260423T122702Z
DTSTART;TZID=Eastern Standard Time:20260512T080000
LOCATION:City of Rome Water & Sewer Authority 212 Blacks Bluff Road  Rome\
 , GA 30161-4610 United States
ORGANIZER;CN=;SENT-BY="mailto:":
SEQUENCE:0
SUMMARY:GUCA: Competent Person Excavation - Rome 05/12/2026
UID:1f15f468-8cc1-4b02-9a3d-0da4e0a08fac
END:VEVENT
END:VCALENDAR
