BEGIN:VCALENDAR
PRODID:-//github.com/rianjs/ical.net//NONSGML ical.net 4.0//EN
VERSION:2.0
BEGIN:VTIMEZONE
TZID:Eastern Standard Time
X-LIC-LOCATION:America/New_York
BEGIN:STANDARD
DTSTART:20241103T020000
RRULE:FREQ=YEARLY;BYDAY=1SU;BYMONTH=11
TZNAME:EST
TZOFFSETFROM:-0400
TZOFFSETTO:-0500
END:STANDARD
BEGIN:DAYLIGHT
DTSTART:20250309T020000
RRULE:FREQ=YEARLY;BYDAY=2SU;BYMONTH=3
TZNAME:EDT
TZOFFSETFROM:-0500
TZOFFSETTO:-0400
END:DAYLIGHT
END:VTIMEZONE
BEGIN:VEVENT
DESCRIPTION:Come Experience the JCB Tour - Lunch Included - Hosted by JCB!
DTEND;TZID=Eastern Standard Time:20260514T150000
DTSTAMP:20260421T201850Z
DTSTART;TZID=Eastern Standard Time:20260514T120000
LOCATION:JCB North America 2000 Bamford Blvd Pooler\, GA \, GA 31322 Unite
 d States
ORGANIZER;CN=;SENT-BY="mailto:":
SEQUENCE:0
SUMMARY:GUCA: 2026 Coastal GA JCB Tour/Lunch
UID:8191bc79-65df-4cb5-b365-4a9beab334b9
END:VEVENT
END:VCALENDAR
